BEGIN:VCALENDAR
VERSION:2.0
PRODID:-//bjj-insider.de - ECPv6.3.3.1//NONSGML v1.0//EN
CALSCALE:GREGORIAN
METHOD:PUBLISH
X-ORIGINAL-URL:https://bjj-insider.de
X-WR-CALDESC:Veranstaltungen für bjj-insider.de
REFRESH-INTERVAL;VALUE=DURATION:PT1H
X-Robots-Tag:noindex
X-PUBLISHED-TTL:PT1H
BEGIN:VTIMEZONE
TZID:Europe/Berlin
BEGIN:DAYLIGHT
TZOFFSETFROM:+0100
TZOFFSETTO:+0200
TZNAME:CEST
DTSTART:20230326T010000
END:DAYLIGHT
BEGIN:STANDARD
TZOFFSETFROM:+0200
TZOFFSETTO:+0100
TZNAME:CET
DTSTART:20231029T010000
END:STANDARD
END:VTIMEZONE
BEGIN:VEVENT
DTSTART;VALUE=DATE:20230527
DTEND;VALUE=DATE:20230528
DTSTAMP:20260421T033727
CREATED:20230329T121101Z
LAST-MODIFIED:20230405T164521Z
UID:6966-1685145600-1685231999@bjj-insider.de
SUMMARY:WSOJJ BERLIN GI & NOGI CHAMPIONSHIP
DESCRIPTION:WSOJJ BERLIN GI & NOGI MEISTERSCHAFT\nJIU-JITSU-TURNIER MIT GELDPREISEN FÜR ALLE ALTERSKLASSEN\, GEWICHTSKLASSEN UND GÜRTELGRADE. \nES IST UNSERE POLITIK\, KEINE INFORMATIONEN ÜBER DIE TEILNEHMERGRUPPEN BEKANNT ZU GEBEN\, BEVOR DIE ANMELDUNG ABGESCHLOSSEN IST. Wenn Sie sich für dieses Turnier anmelden und keinen Gegner in Ihrer Division haben\, haben Sie die Möglichkeit\, in eine andere Division zu wechseln oder eine Rückerstattung zu beantragen. Die Optionen sind auf dem Anmeldeformular angegeben. Erkundigen Sie sich erst nach Anmeldeschluss nach den Gruppeneinteilungen.\nOrt: In der IMAG \, Oudenarder Str. 16\, 13347 Berlin \nFORMAT: Die WSOJJ-Divisionen sind Single Elimination\, Sub-Only mit EBI Overtime. Alle Divisionen werden mit Bargeldpreisen\, ohne Punkte und ohne Kampfrichter ausgetragen. \nGELDAUSZAHLUNGSSYSTEM: \n*SPECIAL DIVISION* €500 WINNER TAKE ALL PURPLE BELT GI 170LB MAX (niedrigere Gewichte und Gürtel können teilnehmen)\nREGELN: Sub-Only EBI Overtime (klicken Sie hier für spezifische Regeln pro Gürtelstufe) https://www.worldseriesofmartialarts.com \nDIVISIONEN: Jugend\, Erwachsene\, Gi und NoGi \nFrühbucheranmeldung: €99 ERSTE 25 WETTKÄMPFER ANMELDEN oder endet am 03. März 2023 um 23:59 Uhr) \nNormale Anmeldung: Endet am 24. Mai 2023 um 23:59 Uhr €120 \nZuschauer-/Betreuerpässe: 20 € pro Person. Kinder unter 5 Jahren sind frei. \nDIVISIONSZUSAMMENSETZUNGEN: Nach Anmeldeschluss beginnen wir mit der Erstellung der Spielpläne. Wenn Sie kein Spiel in der von Ihnen gewählten Division haben\, werden wir Sie entsprechend der von Ihnen bei der Anmeldung angegebenen Flexibilitätsoptionen verschieben. Wenn Sie einer Verschiebung nicht zugestimmt haben\, haben Sie die Möglichkeit\, eine Rückerstattung zu erhalten. \nERSTATTUNGSPOLITIK: Wir gewähren Rückerstattungen für eine Veranstaltungsanmeldung bis zum Frühbucherdatum (03. März 2023). Nach diesem Datum erfolgt eine Rückerstattung nur dann\, wenn ein Teilnehmer keinen Kampf in seiner gewünschten Division hat und nicht bereit ist\, in eine andere Division zu wechseln. Rückerstattungen während der Early-Bird-Periode können Sie erhalten\, indem Sie sich in Ihr Konto einloggen und Ihre Anmeldung für die Veranstaltung vor dem Ende der Early-Bird-Periode stornieren. \nBRACKETS und ZEITPLAN: Werden am Donnerstag\, den 25. Mai 2023\, veröffentlicht. Bitte erkundigen Sie sich bis dahin nicht nach den Wettkampflisten. \nWIEGEN: Das Wiegen findet am Morgen des Turniers statt. Ihr könnt euch ohne euren Gi wiegen. Ihr erhaltet 0\,400 Gramm Erlaubnis. \nRANKINGS: Wir führen die Ranglisten für beide Wettkämpfer nach Verdienst im Laufe ihrer Karriere. Die Ranglisten der Wettkämpfer sind nach Geschlecht\, Alter\, Gewicht und Gürtel oder Erfahrung unterteilt. Sie finden die Ranglisten auf unserer Website unter https://www.worldseriesofmartialarts.com/wsojj/competitors. \nUNIFORMS: Alle nicht-offensiven Gis oder Rash Guards (für No-Gi) sind erlaubt. Offizielle WSOJJ-Merchandise-Artikel können Sie hier kaufen: https://shop.worldseriesofmartialarts.com/collections/all \nLIVESTREAM: Diese Veranstaltung wird im Livestream auf thedojo.com THEDOOJO.COM/WSOJJ übertragen.
URL:https://bjj-insider.de/event/wsojj-berlin-gi-nogi-championship/
LOCATION:IMAG\, Oudenarder Str. 16\, Berlin\, 13347\, Deutschland
CATEGORIES:Turniere
ATTACH;FMTTYPE=image/jpeg:https://bjj-insider.de/wp-content/uploads/2023/03/wsojj-berlin-gi-nogi-championship-2023.jpg
END:VEVENT
END:VCALENDAR